BEGIN:VCALENDAR
VERSION:2.0
PRODID:-//FBRN-Federação Brasileira de Naturismo - ECPv6.15.20//NONSGML v1.0//EN
CALSCALE:GREGORIAN
METHOD:PUBLISH
X-ORIGINAL-URL:https://www.fbrn.org.br
X-WR-CALDESC:Eventos para FBRN-Federação Brasileira de Naturismo
REFRESH-INTERVAL;VALUE=DURATION:PT1H
X-Robots-Tag:noindex
X-PUBLISHED-TTL:PT1H
BEGIN:VTIMEZONE
TZID:America/Sao_Paulo
BEGIN:STANDARD
TZOFFSETFROM:-0300
TZOFFSETTO:-0300
TZNAME:-03
DTSTART:20250101T000000
END:STANDARD
END:VTIMEZONE
BEGIN:VEVENT
DTSTART;TZID=America/Sao_Paulo:20260214T090000
DTEND;TZID=America/Sao_Paulo:20260217T170000
DTSTAMP:20260423T212741
CREATED:20250319T185133Z
LAST-MODIFIED:20260213T195308Z
UID:3796-1771059600-1771347600@www.fbrn.org.br
SUMMARY:Evento Naturista de Fevereiro - Carnaval - 2026 - NATES
DESCRIPTION:Evento Naturista de Fevereiro – Carnaval – 2026 – NATES \n\nCarnaval nas areias de Barra Seca.
URL:https://www.fbrn.org.br/event/evento-naturista-de-dezembro-2025-nates/
LOCATION:Praia de Barra Seca – ES\, Barra Seca\, Linhares\, Espírito Santo\, Brasil
CATEGORIES:Fevereiro 2026
ATTACH;FMTTYPE=image/jpeg:https://www.fbrn.org.br/wp-content/uploads/2026/02/Cal2026nates.jpeg
END:VEVENT
BEGIN:VEVENT
DTSTART;TZID=America/Sao_Paulo:20260214T090000
DTEND;TZID=America/Sao_Paulo:20260217T170000
DTSTAMP:20260423T212741
CREATED:20250319T211621Z
LAST-MODIFIED:20260213T184202Z
UID:3884-1771059600-1771347600@www.fbrn.org.br
SUMMARY:Semana do Carnaval -Praia - 2026 - ANABRICÓ
DESCRIPTION:Semana do Carnaval – 2026 – Associação Naturista de Abricó – ANABRICÓ \n\nAssociação na Praia de 14 à 17 de fevereiro\n\nDependerá da movimentação turística na cidade do Rio de Janeiro e de verba suficiente para poder bancar a fiscalização.
URL:https://www.fbrn.org.br/event/evento-naturista-de-dezembro-2025-anabrico/
LOCATION:Praia de Abricó – RJ\, Rio de Janeiro\, Rio de Janeiro\, Brasil
CATEGORIES:Fevereiro 2026
ATTACH;FMTTYPE=image/jpeg:https://www.fbrn.org.br/wp-content/uploads/2026/02/Cal2026anabrico.jpeg
END:VEVENT
BEGIN:VEVENT
DTSTART;TZID=America/Sao_Paulo:20260221T170000
DTEND;TZID=America/Sao_Paulo:20260221T220000
DTSTAMP:20260423T212741
CREATED:20250319T205845Z
LAST-MODIFIED:20260213T191608Z
UID:3871-1771693200-1771711200@www.fbrn.org.br
SUMMARY:Evento Naturista Têxtil de Fevereiro - 2026 - SPNat
DESCRIPTION:Evento Naturista Têxtil de Fevereiro – 2026 – SPNat \n\nNesse evento os participantes poderão estar com roupas ou não. É opcional.
URL:https://www.fbrn.org.br/event/evento-naturista-de-dezembro-2025-spnat/
LOCATION:Atibaia\, Brasil
CATEGORIES:Fevereiro 2026
ATTACH;FMTTYPE=image/jpeg:https://www.fbrn.org.br/wp-content/uploads/2026/02/Cal2026spnat.jpeg
ORGANIZER;CN="SPNat":MAILTO:spnat01@gmail.com
END:VEVENT
BEGIN:VEVENT
DTSTART;TZID=America/Sao_Paulo:20260222T090000
DTEND;TZID=America/Sao_Paulo:20260222T170000
DTSTAMP:20260423T212741
CREATED:20260213T184831Z
LAST-MODIFIED:20260213T184831Z
UID:4315-1771750800-1771779600@www.fbrn.org.br
SUMMARY:Evento Naturista de Fevereiro -Praia - 2026 - ANABRICÓ
DESCRIPTION:Evento Naturista de Fevereiro -Praia – 2026 – Associação Naturista de Abricó – ANABRICÓ \n\nAssociação na Praia de 22 de fevereiro\nDia Nacional do Naturismo\nAniversariantes de Janeiro e Fevereiro\nAniversário de Luz Del Fuego
URL:https://www.fbrn.org.br/event/evento-naturista-de-fevereiro-praia-2026-anabrico/
LOCATION:Praia de Abricó – RJ\, Rio de Janeiro\, Rio de Janeiro\, Brasil
CATEGORIES:Fevereiro 2026
ATTACH;FMTTYPE=image/jpeg:https://www.fbrn.org.br/wp-content/uploads/2026/02/Cal2026anabrico.jpeg
END:VEVENT
BEGIN:VEVENT
DTSTART;TZID=America/Sao_Paulo:20260222T090000
DTEND;TZID=America/Sao_Paulo:20260222T170000
DTSTAMP:20260423T212741
CREATED:20260213T185134Z
LAST-MODIFIED:20260213T185134Z
UID:4317-1771750800-1771779600@www.fbrn.org.br
SUMMARY:Evento Naturista de Abril -Praia - 2026 - ANABRICÓ
DESCRIPTION:Evento Naturista de Abril -Praia – 2026 – Associação Naturista de Abricó – ANABRICÓ \n\nAssociação na Praia de 26 de Abril\nEleição de nova diretoria\nAniversariantes de Março e Abril
URL:https://www.fbrn.org.br/event/evento-naturista-de-abril-praia-2026-anabrico/
LOCATION:Praia de Abricó – RJ\, Rio de Janeiro\, Rio de Janeiro\, Brasil
CATEGORIES:Abril 2026
ATTACH;FMTTYPE=image/jpeg:https://www.fbrn.org.br/wp-content/uploads/2026/02/Cal2026anabrico.jpeg
END:VEVENT
BEGIN:VEVENT
DTSTART;TZID=America/Sao_Paulo:20260306T170000
DTEND;TZID=America/Sao_Paulo:20260308T170000
DTSTAMP:20260423T212741
CREATED:20260213T192156Z
LAST-MODIFIED:20260213T192156Z
UID:4334-1772816400-1772989200@www.fbrn.org.br
SUMMARY:Evento Naturista de Março - 2026 - SPNat
DESCRIPTION:Evento Naturista de Março – 2026 – SPNat \n\nEvento Naturista
URL:https://www.fbrn.org.br/event/evento-naturista-de-marco-2026-spnat/
LOCATION:Atibaia\, Brasil
CATEGORIES:Março 2026
ATTACH;FMTTYPE=image/jpeg:https://www.fbrn.org.br/wp-content/uploads/2026/02/Cal2026spnat.jpeg
ORGANIZER;CN="SPNat":MAILTO:spnat01@gmail.com
END:VEVENT
BEGIN:VEVENT
DTSTART;VALUE=DATE:20260308
DTEND;VALUE=DATE:20260309
DTSTAMP:20260423T212741
CREATED:20250319T192056Z
LAST-MODIFIED:20260213T192825Z
UID:3822-1772928000-1773014399@www.fbrn.org.br
SUMMARY:Evento Naturista de Março - 2026 - Graúna
DESCRIPTION:Evento Naturista de Março – 2026 – Graúna \n\nGrupo Amazônico União Naturista\nBanho de Cheiro
URL:https://www.fbrn.org.br/event/evento-naturista-de-dezembro-2025-grauna/
LOCATION:Manaus – AM\, Manaus\, Amazonas\, Brasil
CATEGORIES:Março 2026
ATTACH;FMTTYPE=image/jpeg:https://www.fbrn.org.br/wp-content/uploads/2026/02/Cal2026grauna.jpeg
END:VEVENT
BEGIN:VEVENT
DTSTART;TZID=America/Sao_Paulo:20260308T090000
DTEND;TZID=America/Sao_Paulo:20260308T170000
DTSTAMP:20260423T212741
CREATED:20250320T141925Z
LAST-MODIFIED:20260213T190805Z
UID:3951-1772960400-1772989200@www.fbrn.org.br
SUMMARY:Evento Naturista de Março - Praia - 2026 - SONATA
DESCRIPTION:Evento Naturista de Março – Praia – 2026 – SONATA \n\nEncontro de Dia da Mulher.
URL:https://www.fbrn.org.br/event/evento-naturista-de-dezembro-2025-sonata/
LOCATION:Praia de Tambaba – Conde-PB\, Conde\, Paraíba\, Brasil
CATEGORIES:Março 2026
ATTACH;FMTTYPE=image/jpeg:https://www.fbrn.org.br/wp-content/uploads/2026/02/Cal2026sonata.jpeg
END:VEVENT
BEGIN:VEVENT
DTSTART;VALUE=DATE:20260320
DTEND;VALUE=DATE:20260323
DTSTAMP:20260423T212741
CREATED:20250319T201429Z
LAST-MODIFIED:20260213T190036Z
UID:3836-1773964800-1774223999@www.fbrn.org.br
SUMMARY:Evento Naturista de Março - 2026 - NatParaná
DESCRIPTION:Evento Naturista de Março – 2026 – NatParaná \n\nAssociação Naturista do Estado do Paraná
URL:https://www.fbrn.org.br/event/evento-naturista-de-novembro-2025-natparana/
LOCATION:Mandirituba – PR\, Mandirituba\, Paraná\, Brasil
CATEGORIES:Março 2026
ATTACH;FMTTYPE=image/jpeg:https://www.fbrn.org.br/wp-content/uploads/2026/02/Cal2026natparana.jpeg
END:VEVENT
BEGIN:VEVENT
DTSTART;VALUE=DATE:20260412
DTEND;VALUE=DATE:20260413
DTSTAMP:20260423T212741
CREATED:20260213T193222Z
LAST-MODIFIED:20260213T193222Z
UID:4340-1775952000-1776038399@www.fbrn.org.br
SUMMARY:Evento Naturista de Abril - 2026 - Graúna
DESCRIPTION:Evento Naturista de Abril – 2026 – Graúna \n\nGrupo Amazônico União Naturista\nCampanha dos Convidados
URL:https://www.fbrn.org.br/event/evento-naturista-de-abril-2026-grauna/
LOCATION:Manaus – AM\, Manaus\, Amazonas\, Brasil
CATEGORIES:Abril 2026
ATTACH;FMTTYPE=image/jpeg:https://www.fbrn.org.br/wp-content/uploads/2026/02/Cal2026grauna.jpeg
END:VEVENT
BEGIN:VEVENT
DTSTART;TZID=America/Sao_Paulo:20260412T090000
DTEND;TZID=America/Sao_Paulo:20260412T170000
DTSTAMP:20260423T212741
CREATED:20260213T190949Z
LAST-MODIFIED:20260213T190949Z
UID:4328-1775984400-1776013200@www.fbrn.org.br
SUMMARY:Evento Naturista de Abril - Praia - 2026 - SONATA
DESCRIPTION:Evento Naturista de Abril – Praia – 2026 – SONATA \n\nEncontro do Dia dos Povos Indígenas.
URL:https://www.fbrn.org.br/event/evento-naturista-de-abril-praia-2026-sonata/
LOCATION:Praia de Tambaba – Conde-PB\, Conde\, Paraíba\, Brasil
CATEGORIES:Abril 2026
ATTACH;FMTTYPE=image/jpeg:https://www.fbrn.org.br/wp-content/uploads/2026/02/Cal2026sonata.jpeg
END:VEVENT
BEGIN:VEVENT
DTSTART;TZID=America/Sao_Paulo:20260419T090000
DTEND;TZID=America/Sao_Paulo:20260419T170000
DTSTAMP:20260423T212741
CREATED:20260213T195534Z
LAST-MODIFIED:20260213T195615Z
UID:4346-1776589200-1776618000@www.fbrn.org.br
SUMMARY:Evento Naturista de Abril - 2026 - NATES
DESCRIPTION:Evento Naturista de Abril – 2026 – NATES \n\nDia Mundial do Planeta Terra.
URL:https://www.fbrn.org.br/event/evento-naturista-de-abril-2026-nates/
LOCATION:Praia de Barra Seca – ES\, Barra Seca\, Linhares\, Espírito Santo\, Brasil
CATEGORIES:Abril 2026
ATTACH;FMTTYPE=image/jpeg:https://www.fbrn.org.br/wp-content/uploads/2026/02/Cal2026nates.jpeg
END:VEVENT
BEGIN:VEVENT
DTSTART;TZID=America/Sao_Paulo:20260424T170000
DTEND;TZID=America/Sao_Paulo:20260426T170000
DTSTAMP:20260423T212741
CREATED:20260213T192420Z
LAST-MODIFIED:20260213T192420Z
UID:4336-1777050000-1777222800@www.fbrn.org.br
SUMMARY:Evento Naturista de Abril - 2026 - SPNat
DESCRIPTION:Evento Naturista de Abril – 2026 – SPNat \n\nEvento Naturista
URL:https://www.fbrn.org.br/event/evento-naturista-de-abril-2026-spnat/
LOCATION:Atibaia\, Brasil
CATEGORIES:Abril 2026
ATTACH;FMTTYPE=image/jpeg:https://www.fbrn.org.br/wp-content/uploads/2026/02/Cal2026spnat.jpeg
ORGANIZER;CN="SPNat":MAILTO:spnat01@gmail.com
END:VEVENT
BEGIN:VEVENT
DTSTART;VALUE=DATE:20260501
DTEND;VALUE=DATE:20260504
DTSTAMP:20260423T212741
CREATED:20260213T190222Z
LAST-MODIFIED:20260213T190346Z
UID:4324-1777593600-1777852799@www.fbrn.org.br
SUMMARY:Evento Naturista de Maio - 2026 - NatParaná
DESCRIPTION:Evento Naturista de Maio – 2026 – NatParaná \n\nAssociação Naturista do Estado do Paraná
URL:https://www.fbrn.org.br/event/evento-naturista-de-maio-2026-natparana/
LOCATION:Mandirituba – PR\, Mandirituba\, Paraná\, Brasil
CATEGORIES:Maio 2026
ATTACH;FMTTYPE=image/jpeg:https://www.fbrn.org.br/wp-content/uploads/2026/02/Cal2026natparana.jpeg
END:VEVENT
BEGIN:VEVENT
DTSTART;TZID=America/Sao_Paulo:20260501T090000
DTEND;TZID=America/Sao_Paulo:20260501T170000
DTSTAMP:20260423T212741
CREATED:20260213T185641Z
LAST-MODIFIED:20260213T185641Z
UID:4321-1777626000-1777654800@www.fbrn.org.br
SUMMARY:Festa da posse da nova Diretoria Eleita -Praia - 2026 - ANABRICÓ
DESCRIPTION:Festa da posse da nova Diretoria Eleita -Praia – 2026 – Associação Naturista de Abricó – ANABRICÓ \n\nAssociação na Praia em 01 de Maio
URL:https://www.fbrn.org.br/event/festa-da-posse-da-nova-diretoria-eleita-praia-2026-anabrico/
LOCATION:Praia de Abricó – RJ\, Rio de Janeiro\, Rio de Janeiro\, Brasil
CATEGORIES:Maio 2026
ATTACH;FMTTYPE=image/jpeg:https://www.fbrn.org.br/wp-content/uploads/2026/02/Cal2026anabrico.jpeg
END:VEVENT
BEGIN:VEVENT
DTSTART;TZID=America/Sao_Paulo:20260502T150000
DTEND;TZID=America/Sao_Paulo:20260502T235900
DTSTAMP:20260423T212741
CREATED:20250320T131109Z
LAST-MODIFIED:20260212T201734Z
UID:3914-1777734000-1777766340@www.fbrn.org.br
SUMMARY:Aniversário do Amanat - AMANAT
DESCRIPTION:Evento Naturista de Maio de 2026 – AMANAT \n\nAniversário do Amanat.
URL:https://www.fbrn.org.br/event/evento-aniversario-amanat-maio-2026-amanat/
LOCATION:Entre Rios – Massarandupió – Bahia\, Brazil
CATEGORIES:Maio 2026
ATTACH;FMTTYPE=image/jpeg:https://www.fbrn.org.br/wp-content/uploads/2026/02/Cal2026amanat.jpeg
END:VEVENT
BEGIN:VEVENT
DTSTART;VALUE=DATE:20260503
DTEND;VALUE=DATE:20260504
DTSTAMP:20260423T212741
CREATED:20260213T194745Z
LAST-MODIFIED:20260213T194745Z
UID:4342-1777766400-1777852799@www.fbrn.org.br
SUMMARY:Evento Naturista de Maio - 2026 - Graúna
DESCRIPTION:Evento Naturista de Maio – 2026 – Graúna \n\nGrupo Amazônico União Naturista\nVídeo das Mães
URL:https://www.fbrn.org.br/event/evento-naturista-de-maio-2026-grauna/
LOCATION:Manaus – AM\, Manaus\, Amazonas\, Brasil
CATEGORIES:Maio 2026
ATTACH;FMTTYPE=image/jpeg:https://www.fbrn.org.br/wp-content/uploads/2026/02/Cal2026grauna.jpeg
END:VEVENT
BEGIN:VEVENT
DTSTART;TZID=America/Sao_Paulo:20260517T090000
DTEND;TZID=America/Sao_Paulo:20260517T170000
DTSTAMP:20260423T212741
CREATED:20260213T191250Z
LAST-MODIFIED:20260213T191250Z
UID:4330-1779008400-1779037200@www.fbrn.org.br
SUMMARY:Evento Naturista de Maio - Praia - 2026 - SONATA
DESCRIPTION:Evento Naturista de Maio – Praia – 2026 – SONATA \n\nEncontro de Dia das Mães.
URL:https://www.fbrn.org.br/event/evento-naturista-de-maio-praia-2026-sonata/
LOCATION:Praia de Tambaba – Conde-PB\, Conde\, Paraíba\, Brasil
CATEGORIES:Maio 2026
ATTACH;FMTTYPE=image/jpeg:https://www.fbrn.org.br/wp-content/uploads/2026/02/Cal2026sonata.jpeg
END:VEVENT
BEGIN:VEVENT
DTSTART;TZID=America/Sao_Paulo:20260606T090000
DTEND;TZID=America/Sao_Paulo:20260606T170000
DTSTAMP:20260423T212741
CREATED:20260212T200749Z
LAST-MODIFIED:20260212T201824Z
UID:4280-1780736400-1780765200@www.fbrn.org.br
SUMMARY:Dia Mundial do Meio Ambiente - AMANAT
DESCRIPTION:Evento Naturista de Junho de 2026 – AMANAT \n\nDia mundial do Meio Ambiente no Amanat.
URL:https://www.fbrn.org.br/event/dia-mundial-meio-ambiente/
LOCATION:Entre Rios – Massarandupió – Bahia\, Brazil
CATEGORIES:Junho 2026
ATTACH;FMTTYPE=image/jpeg:https://www.fbrn.org.br/wp-content/uploads/2026/02/Cal2026amanat.jpeg
END:VEVENT
BEGIN:VEVENT
DTSTART;TZID=America/Sao_Paulo:20260920T170000
DTEND;TZID=America/Sao_Paulo:20260920T170000
DTSTAMP:20260423T212741
CREATED:20260212T201425Z
LAST-MODIFIED:20260212T201950Z
UID:4282-1789923600-1789923600@www.fbrn.org.br
SUMMARY:Dia Mundial da Limpeza - AMANAT
DESCRIPTION:Evento Naturista de Setembro de 2026 – AMANAT \n\nDia mundial da limpeza com Amanat na Praia das Dunas Massarandupió – BA.
URL:https://www.fbrn.org.br/event/dia-mundial-da-limpeza-praia-amanat/
LOCATION:Entre Rios – Massarandupió – Bahia\, Brazil
CATEGORIES:Setembro 2026
ATTACH;FMTTYPE=image/jpeg:https://www.fbrn.org.br/wp-content/uploads/2026/02/Cal2026amanat.jpeg
END:VEVENT
BEGIN:VEVENT
DTSTART;TZID=America/Sao_Paulo:20261107T200000
DTEND;TZID=America/Sao_Paulo:20261107T233000
DTSTAMP:20260423T212741
CREATED:20260212T202318Z
LAST-MODIFIED:20260212T202636Z
UID:4284-1794081600-1794094200@www.fbrn.org.br
SUMMARY:Halloween sem Fantasia - AMANAT
DESCRIPTION:Evento Naturista de Novembro de 2026 – AMANAT \n\nHalloween sem Fantasia – Massarandupió – BA.
URL:https://www.fbrn.org.br/event/halloween-sem-fantasia-amanat/
LOCATION:Entre Rios – Massarandupió – Bahia\, Brazil
CATEGORIES:Novembro 2026
ATTACH;FMTTYPE=image/jpeg:https://www.fbrn.org.br/wp-content/uploads/2026/02/Cal2026amanat.jpeg
END:VEVENT
END:VCALENDAR